BEGIN:VCALENDAR
VERSION:2.0
PRODID:-//Project Unity - ECPv6.15.17.1//NONSGML v1.0//EN
CALSCALE:GREGORIAN
METHOD:PUBLISH
X-WR-CALNAME:Project Unity
X-ORIGINAL-URL:https://projectunity.net
X-WR-CALDESC:Events for Project Unity
REFRESH-INTERVAL;VALUE=DURATION:PT1H
X-Robots-Tag:noindex
X-PUBLISHED-TTL:PT1H
BEGIN:VTIMEZONE
TZID:America/Denver
BEGIN:DAYLIGHT
TZOFFSETFROM:-0700
TZOFFSETTO:-0600
TZNAME:MDT
DTSTART:20240310T090000
END:DAYLIGHT
BEGIN:STANDARD
TZOFFSETFROM:-0600
TZOFFSETTO:-0700
TZNAME:MST
DTSTART:20241103T080000
END:STANDARD
BEGIN:DAYLIGHT
TZOFFSETFROM:-0700
TZOFFSETTO:-0600
TZNAME:MDT
DTSTART:20250309T090000
END:DAYLIGHT
BEGIN:STANDARD
TZOFFSETFROM:-0600
TZOFFSETTO:-0700
TZNAME:MST
DTSTART:20251102T080000
END:STANDARD
BEGIN:DAYLIGHT
TZOFFSETFROM:-0700
TZOFFSETTO:-0600
TZNAME:MDT
DTSTART:20260308T090000
END:DAYLIGHT
BEGIN:STANDARD
TZOFFSETFROM:-0600
TZOFFSETTO:-0700
TZNAME:MST
DTSTART:20261101T080000
END:STANDARD
END:VTIMEZONE
BEGIN:VEVENT
DTSTART;TZID=America/Denver:20250917T180000
DTEND;TZID=America/Denver:20250917T193000
DTSTAMP:20260421T034627
CREATED:20250917T000535Z
LAST-MODIFIED:20250917T000535Z
UID:7365-1758132000-1758137400@projectunity.net
SUMMARY:Listen & Learn - Tomorrow's Women - Israeli and Palestinian Women - Register Today!
DESCRIPTION:A team of brave women will be traveling from Palestine and Israel to the U.S.\, making the bold choice at this fraught moment to stand together as leaders in the pursuit of peace. They will speak to American audiences on tour September 17 – 20 where they will talk about their experiences living through war\, and why they are working tirelessly right now for a more peaceful and just future. You are invited to a special evening with two of the speakers\, Tamar and Yara. Join us for the September Listen & Learn event as they tell their stories in hopes of building understanding of each other and uniting for peace.\n\nWebinar Registration – Zoom
URL:https://projectunity.net/calendar/listen-learn-tomorrows-women-israeli-and-palestinian-women-register-today/
CATEGORIES:Listen & Learn
END:VEVENT
END:VCALENDAR