BEGIN:VCALENDAR
VERSION:2.0
PRODID:-//Project Unity - ECPv6.15.17.1//NONSGML v1.0//EN
CALSCALE:GREGORIAN
METHOD:PUBLISH
X-ORIGINAL-URL:https://projectunity.net
X-WR-CALDESC:Events for Project Unity
REFRESH-INTERVAL;VALUE=DURATION:PT1H
X-Robots-Tag:noindex
X-PUBLISHED-TTL:PT1H
BEGIN:VTIMEZONE
TZID:America/Denver
BEGIN:DAYLIGHT
TZOFFSETFROM:-0700
TZOFFSETTO:-0600
TZNAME:MDT
DTSTART:20240310T090000
END:DAYLIGHT
BEGIN:STANDARD
TZOFFSETFROM:-0600
TZOFFSETTO:-0700
TZNAME:MST
DTSTART:20241103T080000
END:STANDARD
BEGIN:DAYLIGHT
TZOFFSETFROM:-0700
TZOFFSETTO:-0600
TZNAME:MDT
DTSTART:20250309T090000
END:DAYLIGHT
BEGIN:STANDARD
TZOFFSETFROM:-0600
TZOFFSETTO:-0700
TZNAME:MST
DTSTART:20251102T080000
END:STANDARD
BEGIN:DAYLIGHT
TZOFFSETFROM:-0700
TZOFFSETTO:-0600
TZNAME:MDT
DTSTART:20260308T090000
END:DAYLIGHT
BEGIN:STANDARD
TZOFFSETFROM:-0600
TZOFFSETTO:-0700
TZNAME:MST
DTSTART:20261101T080000
END:STANDARD
END:VTIMEZONE
BEGIN:VEVENT
DTSTART;VALUE=DATE:20251002
DTEND;VALUE=DATE:20251003
DTSTAMP:20260419T063005
CREATED:20250916T234532Z
LAST-MODIFIED:20250916T234532Z
UID:7342-1759363200-1759449599@projectunity.net
SUMMARY:Together We Dine\, Lennox International (Private)
DESCRIPTION:
URL:https://projectunity.net/calendar/together-we-dine-lennox-international-private-5/
END:VEVENT
BEGIN:VEVENT
DTSTART;TZID=America/Denver:20251002T170000
DTEND;TZID=America/Denver:20251002T200000
DTSTAMP:20260419T063005
CREATED:20250916T234924Z
LAST-MODIFIED:20250930T002943Z
UID:7347-1759424400-1759435200@projectunity.net
SUMMARY:Together We Dine: The Gullah Journey - West Africa to Mexico | Register Today!
DESCRIPTION:Register Today!\nProject Unity and the Latino Arts Project partner to present a powerful exhibition about a two continent 150 year journey. \nStarted in 2017\, Together We Dine (TWD) provides an opportunity for people to have conversations about a variety of meaningful and sometimes uncomfortable topics in a safe and non-threatening environment. We don’t have conversations like these everyday\, but Together We Dine helps to set the table and create space for all. \nWe are pleased to partner with the Latino Arts Project to offer a community conversation on the running exhibition “The Gullah Journey: West Africa to Mexico” as part of our joint on-going effort to educate our communities\, foster empathy among each other\, and inspire dialogue about our roots and history. \nThis free exhibition brings awareness to the West Africans who were enslaved and brought to plantations in Georgia and the Carolinas because of their prized agricultural skills with rice cultivation. This exhibition brings the Atlantic Slave Trade into vivid perspective through a wide range of art forms and shares the stories of The Gullah. \nParticipants will tour the gallery and view the amazing commissioned works of art by both local and international artists that portray the magnitude of the forced migration of 12 million Africans to the Americas—art that fosters empathy and deeper understanding of this global tragedy. Don’t miss this extraordinary opportunity to witness the journey of a people who despite unimaginable hardship preserved their dignity\, traditions and faith. Experience how music and art continue connect the past to the present and inspire generations to come. \nFollowing the gallery tour\, Project Unity facilitators will lead interactive small group discussions about the stories told through the artists. Please note that the conversations are intended to inspire and educate. \nJoin us for this cultural and eye-opening experience! \nRegister Today!
URL:https://projectunity.net/calendar/twd-latino-arts-project-art-exhibition/
CATEGORIES:Together We Dine
END:VEVENT
END:VCALENDAR