BEGIN:VCALENDAR
VERSION:2.0
PRODID:-//Project Unity - ECPv6.15.17.1//NONSGML v1.0//EN
CALSCALE:GREGORIAN
METHOD:PUBLISH
X-ORIGINAL-URL:https://projectunity.net
X-WR-CALDESC:Events for Project Unity
REFRESH-INTERVAL;VALUE=DURATION:PT1H
X-Robots-Tag:noindex
X-PUBLISHED-TTL:PT1H
BEGIN:VTIMEZONE
TZID:America/Denver
BEGIN:DAYLIGHT
TZOFFSETFROM:-0700
TZOFFSETTO:-0600
TZNAME:MDT
DTSTART:20240310T090000
END:DAYLIGHT
BEGIN:STANDARD
TZOFFSETFROM:-0600
TZOFFSETTO:-0700
TZNAME:MST
DTSTART:20241103T080000
END:STANDARD
BEGIN:DAYLIGHT
TZOFFSETFROM:-0700
TZOFFSETTO:-0600
TZNAME:MDT
DTSTART:20250309T090000
END:DAYLIGHT
BEGIN:STANDARD
TZOFFSETFROM:-0600
TZOFFSETTO:-0700
TZNAME:MST
DTSTART:20251102T080000
END:STANDARD
BEGIN:DAYLIGHT
TZOFFSETFROM:-0700
TZOFFSETTO:-0600
TZNAME:MDT
DTSTART:20260308T090000
END:DAYLIGHT
BEGIN:STANDARD
TZOFFSETFROM:-0600
TZOFFSETTO:-0700
TZNAME:MST
DTSTART:20261101T080000
END:STANDARD
END:VTIMEZONE
BEGIN:VEVENT
DTSTART;TZID=America/Denver:20251009T180000
DTEND;TZID=America/Denver:20251009T193000
DTSTAMP:20260419T092932
CREATED:20250916T234952Z
LAST-MODIFIED:20251008T000748Z
UID:7348-1760032800-1760038200@projectunity.net
SUMMARY:TWD\, Faith and Blue\, Dallas Police Department\, 6 p.m. Register Today!
DESCRIPTION:Location\nThe Golf Club of Dallas\n2200 West Red Bird Lane Dallas\, TX 75232 \nRegister Now!\nStarted in 2017\, Together We Dine (TWD) provides an opportunity for people to have conversations about race\, community relations and other social matters in a safe and non-threatening environment. We are pleased to partner with the Dallas Police Department to offer a community conversation as part of the National Faith & Blue week of events. The conversation will focus on law enforcement relations with the community and faith leaders and the role each plays in building stronger\, safer and more unified neighborhoods – together. \nFollowing an introduction of fellowship\, Project Unity facilitators will lead interactive small group discussions between participants in an effort to up-lift and support law enforcement and community relations. \nOTHER EVENT DETAILS \n\nThursday\, October 9\n6:00 – 7:30 p.m.\nThe Golf Club of Dallas\n2200 W Red Bird Ln\, Dallas\, TX 75232\nParticipants must be 18 years or older\nRegistration is limited\nChildcare is not provided or an option for this event. Plan accordingly.\nRegistration closes on Wednesday\, October 8\, at 12:00 PM CST\nAn event Know Before You Go (KB4UG) with final event details will be sent to all confirmed registered participants\nCheck your spam/junk mail for the event KB4UG if you do not receive it in your inbox.\n\nFor more information on Project Unity\, visit www.projectunity.net \nF or more information on Faith & Blue\, visit https://faithandblue.org/
URL:https://projectunity.net/calendar/twd-faith-and-blue-dallas-police-department-6-p-m-registration-coming-soon/
LOCATION:The Golf Club of Dallas\, 2200 West Red Bird Lane\, Dallas\, TX\, 75232\, United States
END:VEVENT
END:VCALENDAR