BEGIN:VCALENDAR
VERSION:2.0
PRODID:-//Project Unity - ECPv6.15.17.1//NONSGML v1.0//EN
CALSCALE:GREGORIAN
METHOD:PUBLISH
X-ORIGINAL-URL:https://projectunity.net
X-WR-CALDESC:Events for Project Unity
REFRESH-INTERVAL;VALUE=DURATION:PT1H
X-Robots-Tag:noindex
X-PUBLISHED-TTL:PT1H
BEGIN:VTIMEZONE
TZID:America/Denver
BEGIN:DAYLIGHT
TZOFFSETFROM:-0700
TZOFFSETTO:-0600
TZNAME:MDT
DTSTART:20250309T090000
END:DAYLIGHT
BEGIN:STANDARD
TZOFFSETFROM:-0600
TZOFFSETTO:-0700
TZNAME:MST
DTSTART:20251102T080000
END:STANDARD
BEGIN:DAYLIGHT
TZOFFSETFROM:-0700
TZOFFSETTO:-0600
TZNAME:MDT
DTSTART:20260308T090000
END:DAYLIGHT
BEGIN:STANDARD
TZOFFSETFROM:-0600
TZOFFSETTO:-0700
TZNAME:MST
DTSTART:20261101T080000
END:STANDARD
BEGIN:DAYLIGHT
TZOFFSETFROM:-0700
TZOFFSETTO:-0600
TZNAME:MDT
DTSTART:20270314T090000
END:DAYLIGHT
BEGIN:STANDARD
TZOFFSETFROM:-0600
TZOFFSETTO:-0700
TZNAME:MST
DTSTART:20271107T080000
END:STANDARD
END:VTIMEZONE
BEGIN:VEVENT
DTSTART;VALUE=DATE:20260212
DTEND;VALUE=DATE:20260213
DTSTAMP:20260421T062634
CREATED:20260210T191607Z
LAST-MODIFIED:20260210T192523Z
UID:7501-1770854400-1770940799@projectunity.net
SUMMARY:Together We Dine\, Lennox PD&R (Private)
DESCRIPTION:
URL:https://projectunity.net/calendar/together-we-dine-lennox-pdr-private/
CATEGORIES:Together We Dine
END:VEVENT
BEGIN:VEVENT
DTSTART;TZID=America/Denver:20260212T183000
DTEND;TZID=America/Denver:20260212T200000
DTSTAMP:20260421T062634
CREATED:20260210T202440Z
LAST-MODIFIED:20260210T192353Z
UID:7504-1770921000-1770926400@projectunity.net
SUMMARY:Together We Dine\, Dialogue Institute (Public)
DESCRIPTION:
URL:https://projectunity.net/calendar/together-we-dine-dialogue-institute-public/
LOCATION:Dialogue Institute\, 1416 E Collins Blvd\, Richardson\, TX\, 75081\, United States
CATEGORIES:Together We Dine
END:VEVENT
END:VCALENDAR