BEGIN:VCALENDAR
VERSION:2.0
PRODID:-//Project Unity - ECPv6.15.17.1//NONSGML v1.0//EN
CALSCALE:GREGORIAN
METHOD:PUBLISH
X-ORIGINAL-URL:https://projectunity.net
X-WR-CALDESC:Events for Project Unity
REFRESH-INTERVAL;VALUE=DURATION:PT1H
X-Robots-Tag:noindex
X-PUBLISHED-TTL:PT1H
BEGIN:VTIMEZONE
TZID:America/Denver
BEGIN:DAYLIGHT
TZOFFSETFROM:-0700
TZOFFSETTO:-0600
TZNAME:MDT
DTSTART:20250309T090000
END:DAYLIGHT
BEGIN:STANDARD
TZOFFSETFROM:-0600
TZOFFSETTO:-0700
TZNAME:MST
DTSTART:20251102T080000
END:STANDARD
BEGIN:DAYLIGHT
TZOFFSETFROM:-0700
TZOFFSETTO:-0600
TZNAME:MDT
DTSTART:20260308T090000
END:DAYLIGHT
BEGIN:STANDARD
TZOFFSETFROM:-0600
TZOFFSETTO:-0700
TZNAME:MST
DTSTART:20261101T080000
END:STANDARD
BEGIN:DAYLIGHT
TZOFFSETFROM:-0700
TZOFFSETTO:-0600
TZNAME:MDT
DTSTART:20270314T090000
END:DAYLIGHT
BEGIN:STANDARD
TZOFFSETFROM:-0600
TZOFFSETTO:-0700
TZNAME:MST
DTSTART:20271107T080000
END:STANDARD
END:VTIMEZONE
BEGIN:VEVENT
DTSTART;VALUE=DATE:20260331
DTEND;VALUE=DATE:20260401
DTSTAMP:20260423T042911
CREATED:20260223T174756Z
LAST-MODIFIED:20260414T191902Z
UID:7563-1774915200-1775001599@projectunity.net
SUMMARY:TWD\, Cedar Hill Collegiate H.S. (Private)
DESCRIPTION:
URL:https://projectunity.net/calendar/twd-cedar-hill-collegiate-h-s-private/
CATEGORIES:Together We Dine
END:VEVENT
BEGIN:VEVENT
DTSTART;VALUE=DATE:20260401
DTEND;VALUE=DATE:20260402
DTSTAMP:20260423T042911
CREATED:20260330T202807Z
LAST-MODIFIED:20260330T203803Z
UID:7584-1775001600-1775087999@projectunity.net
SUMMARY:Jesuit Social Justice Session
DESCRIPTION:
URL:https://projectunity.net/calendar/jesuit-social-justice-session-6/
END:VEVENT
BEGIN:VEVENT
DTSTART;VALUE=DATE:20260402
DTEND;VALUE=DATE:20260403
DTSTAMP:20260423T042911
CREATED:20260330T204003Z
LAST-MODIFIED:20260414T191852Z
UID:7585-1775088000-1775174399@projectunity.net
SUMMARY:TWL\, IL Texas AGP/KS (Private)
DESCRIPTION:
URL:https://projectunity.net/calendar/twl-il-texas-agp-ks-private/
CATEGORIES:Together We Learn
END:VEVENT
BEGIN:VEVENT
DTSTART;VALUE=DATE:20260408
DTEND;VALUE=DATE:20260409
DTSTAMP:20260423T042911
CREATED:20260330T204151Z
LAST-MODIFIED:20260414T191849Z
UID:7586-1775606400-1775692799@projectunity.net
SUMMARY:TWL\, Jesuit (Private)
DESCRIPTION:
URL:https://projectunity.net/calendar/twl-jesuit-private/
CATEGORIES:Together We Learn
END:VEVENT
BEGIN:VEVENT
DTSTART;TZID=America/Denver:20260409T180000
DTEND;TZID=America/Denver:20260409T190000
DTSTAMP:20260423T042911
CREATED:20260330T204441Z
LAST-MODIFIED:20260414T191833Z
UID:7587-1775757600-1775761200@projectunity.net
SUMMARY:TWD\, CCBA Connects (Public)
DESCRIPTION:Registration Link Pending
URL:https://projectunity.net/calendar/twd-ccba-connects-public/
CATEGORIES:Together We Dine
END:VEVENT
BEGIN:VEVENT
DTSTART;VALUE=DATE:20260415
DTEND;VALUE=DATE:20260416
DTSTAMP:20260423T042911
CREATED:20260330T204707Z
LAST-MODIFIED:20260330T204707Z
UID:7589-1776211200-1776297599@projectunity.net
SUMMARY:Jesuit Social Justice Session
DESCRIPTION:
URL:https://projectunity.net/calendar/jesuit-social-justice-session-7/
END:VEVENT
BEGIN:VEVENT
DTSTART;VALUE=DATE:20260416
DTEND;VALUE=DATE:20260417
DTSTAMP:20260423T042911
CREATED:20260330T212748Z
LAST-MODIFIED:20260414T191836Z
UID:7592-1776297600-1776383999@projectunity.net
SUMMARY:TWD\, SMU Athletics Staff/Coaches (Private)
DESCRIPTION:
URL:https://projectunity.net/calendar/twd-smu-athletics-staff-coaches-private/
CATEGORIES:Together We Dine
END:VEVENT
BEGIN:VEVENT
DTSTART;VALUE=DATE:20260420
DTEND;VALUE=DATE:20260421
DTSTAMP:20260423T042911
CREATED:20260330T212847Z
LAST-MODIFIED:20260414T191843Z
UID:7593-1776643200-1776729599@projectunity.net
SUMMARY:TWD\, Common Ground\, Longview (Private)
DESCRIPTION:
URL:https://projectunity.net/calendar/twd-common-ground-longview/
CATEGORIES:Together We Dine
END:VEVENT
BEGIN:VEVENT
DTSTART;VALUE=DATE:20260422
DTEND;VALUE=DATE:20260423
DTSTAMP:20260423T042911
CREATED:20260330T204807Z
LAST-MODIFIED:20260330T204807Z
UID:7590-1776816000-1776902399@projectunity.net
SUMMARY:Jesuit Social Justice Session
DESCRIPTION:
URL:https://projectunity.net/calendar/jesuit-social-justice-session-8/
END:VEVENT
BEGIN:VEVENT
DTSTART;VALUE=DATE:20260423
DTEND;VALUE=DATE:20260424
DTSTAMP:20260423T042911
CREATED:20260330T213241Z
LAST-MODIFIED:20260414T191838Z
UID:7595-1776902400-1776988799@projectunity.net
SUMMARY:TWD\, Lennox\, India (Private)
DESCRIPTION:
URL:https://projectunity.net/calendar/twd-lennox-india-private/
CATEGORIES:Together We Dine
END:VEVENT
BEGIN:VEVENT
DTSTART;VALUE=DATE:20260423
DTEND;VALUE=DATE:20260424
DTSTAMP:20260423T042911
CREATED:20260330T213354Z
LAST-MODIFIED:20260414T191827Z
UID:7596-1776902400-1776988799@projectunity.net
SUMMARY:TWD\, Texas Instruments: Interfaith Celebration (Private)
DESCRIPTION:
URL:https://projectunity.net/calendar/twd-texas-instruments-interfaith-celebration-private/
CATEGORIES:Together We Dine
END:VEVENT
BEGIN:VEVENT
DTSTART;VALUE=DATE:20260428
DTEND;VALUE=DATE:20260429
DTSTAMP:20260423T042911
CREATED:20260422T172652Z
LAST-MODIFIED:20260422T172652Z
UID:7634-1777334400-1777420799@projectunity.net
SUMMARY:TWD\, Texas Instruments: Interfaith Celebration (Private)
DESCRIPTION:
URL:https://projectunity.net/calendar/twd-texas-instruments-interfaith-celebration-private-2/
CATEGORIES:Together We Dine
END:VEVENT
BEGIN:VEVENT
DTSTART;VALUE=DATE:20260429
DTEND;VALUE=DATE:20260430
DTSTAMP:20260423T042911
CREATED:20260330T204829Z
LAST-MODIFIED:20260330T204829Z
UID:7591-1777420800-1777507199@projectunity.net
SUMMARY:Jesuit Social Justice Session
DESCRIPTION:
URL:https://projectunity.net/calendar/jesuit-social-justice-session-9/
END:VEVENT
BEGIN:VEVENT
DTSTART;VALUE=DATE:20260429
DTEND;VALUE=DATE:20260430
DTSTAMP:20260423T042911
CREATED:20260330T213608Z
LAST-MODIFIED:20260422T172934Z
UID:7598-1777420800-1777507199@projectunity.net
SUMMARY:TWD\, HD113\, Mesquite: Civility
DESCRIPTION:Click here to register \nCommunity Constituents of HD113 are invited to a community Together We Dine hosted by State Representative Rhetta Bowers. Join us as we come together to discuss civility matters and find common ground with neighbors. As we work to build a stronger District\, we will realize that what unites us is greater than what divides us. Registration closes Friday\, April 25.
URL:https://projectunity.net/calendar/twd-hd113-mesquite-civility-private/
CATEGORIES:Together We Dine
END:VEVENT
BEGIN:VEVENT
DTSTART;VALUE=DATE:20260430
DTEND;VALUE=DATE:20260501
DTSTAMP:20260423T042911
CREATED:20260330T213651Z
LAST-MODIFIED:20260414T191813Z
UID:7599-1777507200-1777593599@projectunity.net
SUMMARY:TWD\, Highland Springs Senior Living Community (Private)
DESCRIPTION:
URL:https://projectunity.net/calendar/twd-highland-springs-senior-living-community-private/
CATEGORIES:Together We Dine
END:VEVENT
BEGIN:VEVENT
DTSTART;VALUE=DATE:20260430
DTEND;VALUE=DATE:20260501
DTSTAMP:20260423T042911
CREATED:20260330T213750Z
LAST-MODIFIED:20260414T191700Z
UID:7600-1777507200-1777593599@projectunity.net
SUMMARY:TWD\, Common Ground\, Dallas (Private)
DESCRIPTION:
URL:https://projectunity.net/calendar/twd-common-ground-dallas-private/
CATEGORIES:Together We Dine
END:VEVENT
BEGIN:VEVENT
DTSTART;VALUE=DATE:20260507
DTEND;VALUE=DATE:20260508
DTSTAMP:20260423T042911
CREATED:20260330T215204Z
LAST-MODIFIED:20260414T191654Z
UID:7601-1778112000-1778198399@projectunity.net
SUMMARY:TWD\, DPD Class 407 (Private)
DESCRIPTION:
URL:https://projectunity.net/calendar/twd-dpd-class-407/
CATEGORIES:Together We Dine
END:VEVENT
BEGIN:VEVENT
DTSTART;VALUE=DATE:20260507
DTEND;VALUE=DATE:20260508
DTSTAMP:20260423T042911
CREATED:20260422T173321Z
LAST-MODIFIED:20260422T173321Z
UID:7636-1778112000-1778198399@projectunity.net
SUMMARY:TWD\, Lennox India (Private)
DESCRIPTION:
URL:https://projectunity.net/calendar/twd-lennox-india-private-2/
CATEGORIES:Together We Dine
END:VEVENT
BEGIN:VEVENT
DTSTART;VALUE=DATE:20260514
DTEND;VALUE=DATE:20260515
DTSTAMP:20260423T042911
CREATED:20260330T220107Z
LAST-MODIFIED:20260414T184217Z
UID:7602-1778716800-1778803199@projectunity.net
SUMMARY:TWD\, Texas Instruments: Mental Health (Private)
DESCRIPTION:
URL:https://projectunity.net/calendar/twd-texas-instruments-mental-health-private/
CATEGORIES:Together We Dine
END:VEVENT
BEGIN:VEVENT
DTSTART;VALUE=DATE:20260519
DTEND;VALUE=DATE:20260520
DTSTAMP:20260423T042911
CREATED:20260330T220244Z
LAST-MODIFIED:20260414T191809Z
UID:7603-1779148800-1779235199@projectunity.net
SUMMARY:TWD\, Lennox Richardson: Generations (Private)
DESCRIPTION:
URL:https://projectunity.net/calendar/twd-lennox-richardson-generations-private/
CATEGORIES:Together We Dine
END:VEVENT
BEGIN:VEVENT
DTSTART;VALUE=DATE:20260519
DTEND;VALUE=DATE:20260520
DTSTAMP:20260423T042911
CREATED:20260422T173451Z
LAST-MODIFIED:20260422T173451Z
UID:7637-1779148800-1779235199@projectunity.net
SUMMARY:TWD\, Lennox Richardson: Generations (Private)
DESCRIPTION:
URL:https://projectunity.net/calendar/twd-lennox-richardson-generations-private-2/
CATEGORIES:Together We Dine
END:VEVENT
BEGIN:VEVENT
DTSTART;VALUE=DATE:20260520
DTEND;VALUE=DATE:20260521
DTSTAMP:20260423T042911
CREATED:20260330T220337Z
LAST-MODIFIED:20260414T191719Z
UID:7604-1779235200-1779321599@projectunity.net
SUMMARY:TWD\, Marsh McClennan\, DEIB Summit (Private)
DESCRIPTION:
URL:https://projectunity.net/calendar/twd-marsh-mcclennan-deib-summit-private/
CATEGORIES:Together We Dine
END:VEVENT
BEGIN:VEVENT
DTSTART;VALUE=DATE:20260520
DTEND;VALUE=DATE:20260521
DTSTAMP:20260423T042911
CREATED:20260422T173536Z
LAST-MODIFIED:20260422T173536Z
UID:7638-1779235200-1779321599@projectunity.net
SUMMARY:TWD\, Marsh McClennan\, DEIB Summit (Private)
DESCRIPTION:
URL:https://projectunity.net/calendar/twd-marsh-mcclennan-deib-summit-private-2/
CATEGORIES:Together We Dine
END:VEVENT
BEGIN:VEVENT
DTSTART;VALUE=DATE:20260527
DTEND;VALUE=DATE:20260528
DTSTAMP:20260423T042911
CREATED:20260330T204545Z
LAST-MODIFIED:20260414T191713Z
UID:7588-1779840000-1779926399@projectunity.net
SUMMARY:TWD\, NTT DATA (Private)
DESCRIPTION:
URL:https://projectunity.net/calendar/twd-ntt-data-private-3/
CATEGORIES:Together We Dine
END:VEVENT
BEGIN:VEVENT
DTSTART;VALUE=DATE:20260527
DTEND;VALUE=DATE:20260528
DTSTAMP:20260423T042911
CREATED:20260422T173615Z
LAST-MODIFIED:20260422T173615Z
UID:7639-1779840000-1779926399@projectunity.net
SUMMARY:TWD\, NTT DATA Plano\, (Private)
DESCRIPTION:
URL:https://projectunity.net/calendar/twd-ntt-data-plano-private/
CATEGORIES:Together We Dine
END:VEVENT
BEGIN:VEVENT
DTSTART;TZID=America/Denver:20260528T183000
DTEND;TZID=America/Denver:20260528T200000
DTSTAMP:20260423T042911
CREATED:20260330T224350Z
LAST-MODIFIED:20260414T181610Z
UID:7606-1779993000-1779998400@projectunity.net
SUMMARY:Community Virtual TWD
DESCRIPTION:Project Unity invites the community to join this month’s virtual Together We Dine event where we provide a safe space to discuss our lived experiences as we continue to prove that what unites us is greater than what divides us. \nRegistration closes Tuesday\, May 26\, 5:00 p.m. Join us from your living room or kitchen table!
URL:https://projectunity.net/calendar/community-virtual-twd/
CATEGORIES:Together We Dine
END:VEVENT
BEGIN:VEVENT
DTSTART;TZID=America/Denver:20260528T183000
DTEND;TZID=America/Denver:20260528T200000
DTSTAMP:20260423T042911
CREATED:20260422T173827Z
LAST-MODIFIED:20260422T174158Z
UID:7640-1779993000-1779998400@projectunity.net
SUMMARY:Community Virtual TWD (Registration Open)
DESCRIPTION:Register here for our May Virtual Community TWD.
URL:https://projectunity.net/calendar/community-virtual-twd-2/
CATEGORIES:Together We Dine
END:VEVENT
BEGIN:VEVENT
DTSTART;VALUE=DATE:20260606
DTEND;VALUE=DATE:20260607
DTSTAMP:20260423T042911
CREATED:20260414T184207Z
LAST-MODIFIED:20260422T200806Z
UID:7616-1780704000-1780790399@projectunity.net
SUMMARY:TWD Grace Presbytery Conference\, Waco (Private)
DESCRIPTION:
URL:https://projectunity.net/calendar/twd-grace-presbytery-waco-private/
CATEGORIES:Together We Dine
END:VEVENT
BEGIN:VEVENT
DTSTART;TZID=America/Denver:20260611T173000
DTEND;TZID=America/Denver:20260611T173000
DTSTAMP:20260423T042911
CREATED:20260414T190831Z
LAST-MODIFIED:20260422T200914Z
UID:7617-1781199000-1781199000@projectunity.net
SUMMARY:TWD CCBA Juneteeth (Public)
DESCRIPTION:Registration information available soon!
URL:https://projectunity.net/calendar/twd-collin-county-business-alliance-public/
CATEGORIES:Together We Dine
END:VEVENT
BEGIN:VEVENT
DTSTART;TZID=America/Denver:20260615T090000
DTEND;TZID=America/Denver:20260615T140000
DTSTAMP:20260423T042911
CREATED:20260414T191005Z
LAST-MODIFIED:20260422T201124Z
UID:7618-1781514000-1781532000@projectunity.net
SUMMARY:Collab Lab | Registration information available soon!
DESCRIPTION:
URL:https://projectunity.net/calendar/collab-lab-day-registration-information-available-soon/
LOCATION:Arts District Mansion\, 2101 Ross Avenue\, Dallas\, TX\, 75201\, United States
CATEGORIES:Together We Sing
END:VEVENT
END:VCALENDAR